BEGIN:VCALENDAR
VERSION:2.0
PRODID:-//Heinens//Events Calendar//EN
CALSCALE:GREGORIAN
METHOD:PUBLISH
BEGIN:VEVENT
UID:69ecda97330be@heinens-staging.fusion92.net
DTSTAMP:20260425T191535Z
DTSTART:20260328T150000Z
DTEND:20260328T170000Z
SUMMARY:Heinen’s Healthy Snack Showcase
DESCRIPTION:A successful snack will satisfy your hunger and power your body and brain with energy—but not all snacks are created equal! Come taste\, learn\, and explore better-for-you options at this fun\, come-and-go Club Fx event\, where you will:\n\n 	Sample delicious Fx-Approved snacks from nearly every department at Heinen's\n 	Learn label-reading tips to help you evaluate the quality of a snack\n\nJoin Heinen's Wellness Consultants and dietitian Mel Jatsek for a snack-tasting experience you won't forget!\n\nNo entrance fee required. | Questions? Please contact Heinen’s Barrington at (847) 381-1332.
LOCATION:Barrington Heinens - 500 North Hough Street Barrington IL 60010
URL:https://heinens-staging.fusion92.net/event/heinens-healthy-snack-showcase-4/
END:VEVENT
END:VCALENDAR
